BEGIN:VCALENDAR
VERSION:2.0
PRODID:-//Earth Ministry/WA IPL - ECPv6.15.20//NONSGML v1.0//EN
CALSCALE:GREGORIAN
METHOD:PUBLISH
X-WR-CALNAME:Earth Ministry/WA IPL
X-ORIGINAL-URL:https://earthministry.org
X-WR-CALDESC:Events for Earth Ministry/WA IPL
REFRESH-INTERVAL;VALUE=DURATION:PT1H
X-Robots-Tag:noindex
X-PUBLISHED-TTL:PT1H
BEGIN:VTIMEZONE
TZID:America/Los_Angeles
BEGIN:DAYLIGHT
TZOFFSETFROM:-0800
TZOFFSETTO:-0700
TZNAME:PDT
DTSTART:20230312T100000
END:DAYLIGHT
BEGIN:STANDARD
TZOFFSETFROM:-0700
TZOFFSETTO:-0800
TZNAME:PST
DTSTART:20231105T090000
END:STANDARD
BEGIN:DAYLIGHT
TZOFFSETFROM:-0800
TZOFFSETTO:-0700
TZNAME:PDT
DTSTART:20240310T100000
END:DAYLIGHT
BEGIN:STANDARD
TZOFFSETFROM:-0700
TZOFFSETTO:-0800
TZNAME:PST
DTSTART:20241103T090000
END:STANDARD
BEGIN:DAYLIGHT
TZOFFSETFROM:-0800
TZOFFSETTO:-0700
TZNAME:PDT
DTSTART:20250309T100000
END:DAYLIGHT
BEGIN:STANDARD
TZOFFSETFROM:-0700
TZOFFSETTO:-0800
TZNAME:PST
DTSTART:20251102T090000
END:STANDARD
END:VTIMEZONE
BEGIN:VTIMEZONE
TZID:America/New_York
BEGIN:DAYLIGHT
TZOFFSETFROM:-0500
TZOFFSETTO:-0400
TZNAME:EDT
DTSTART:20230312T070000
END:DAYLIGHT
BEGIN:STANDARD
TZOFFSETFROM:-0400
TZOFFSETTO:-0500
TZNAME:EST
DTSTART:20231105T060000
END:STANDARD
BEGIN:DAYLIGHT
TZOFFSETFROM:-0500
TZOFFSETTO:-0400
TZNAME:EDT
DTSTART:20240310T070000
END:DAYLIGHT
BEGIN:STANDARD
TZOFFSETFROM:-0400
TZOFFSETTO:-0500
TZNAME:EST
DTSTART:20241103T060000
END:STANDARD
BEGIN:DAYLIGHT
TZOFFSETFROM:-0500
TZOFFSETTO:-0400
TZNAME:EDT
DTSTART:20250309T070000
END:DAYLIGHT
BEGIN:STANDARD
TZOFFSETFROM:-0400
TZOFFSETTO:-0500
TZNAME:EST
DTSTART:20251102T060000
END:STANDARD
END:VTIMEZONE
BEGIN:VEVENT
DTSTART;TZID=America/Los_Angeles:20241024T180000
DTEND;TZID=America/Los_Angeles:20241024T201000
DTSTAMP:20260422T233230
CREATED:20241021T224837Z
LAST-MODIFIED:20241023T212110Z
UID:21880-1729792800-1729800600@earthministry.org
SUMMARY:The Grand Salmon film screening - Salmon\, ID
DESCRIPTION:Thursday\, October 24\, 2024 6:00 PM 8:10 PM Oddfellows Hall 510 Main St. Salmon\, ID 83467 United States A film by Ripple Skip Collective As wild salmon populations in Idaho approach extinction\, three women embark on a 1\,000 mile expedition…  Read More The Grand Salmon film screening – Salmon\, ID
URL:https://earthministry.org/event/the-grand-salmon-film-screening-salmon-id/
CATEGORIES:Advocacy,Rivers and Salmon,Rivers and Salmon Events
END:VEVENT
BEGIN:VEVENT
DTSTART;TZID=America/Los_Angeles:20241022T190000
DTEND;TZID=America/Los_Angeles:20241022T213000
DTSTAMP:20260422T233230
CREATED:20240924T212906Z
LAST-MODIFIED:20240924T212906Z
UID:21728-1729623600-1729632600@earthministry.org
SUMMARY:Netse Mot: One Heart | One Mind: One People Gathering
DESCRIPTION:Thursday\, October 24\, 2024 6:00 PM 8:10 PM Oddfellows Hall 510 Main St. Salmon\, ID 83467 United States A film by Ripple Skip Collective As wild salmon populations in Idaho approach extinction\, three women embark on a 1\,000 mile expedition…  Read More The Grand Salmon film screening – Salmon\, ID
URL:https://earthministry.org/event/netse-mot-one-heart-one-mind-one-people-gathering/
LOCATION:Paramout Theatre Seattle\, 911 Pine St\, Seattle\, Washington\, 98101
CATEGORIES:Featured,Indigenous Voices/Tribal Solidarity,Multifaith Community,Multigenerational Community
END:VEVENT
BEGIN:VEVENT
DTSTART;TZID=America/New_York:20241003T080000
DTEND;TZID=America/New_York:20241006T130000
DTSTAMP:20260422T233230
CREATED:20240918T224028Z
LAST-MODIFIED:20240918T224028Z
UID:21708-1727942400-1728219600@earthministry.org
SUMMARY:Fall Gathering: Water is Life w/ Keynote Speaker Dr. Lyla June
DESCRIPTION:Thursday\, October 24\, 2024 6:00 PM 8:10 PM Oddfellows Hall 510 Main St. Salmon\, ID 83467 United States A film by Ripple Skip Collective As wild salmon populations in Idaho approach extinction\, three women embark on a 1\,000 mile expedition…  Read More The Grand Salmon film screening – Salmon\, ID
URL:https://earthministry.org/event/fall-gathering-water-is-life-w-keynote-speaker-dr-lyla-june/
LOCATION:Norbertine Spirituality Center\, 5825 Coors Blvd SW\, Albuquerque\, NM\, 87121\, United States
CATEGORIES:Multifaith Community,Multifaith Community Event,Multigenerational Community,Sacred Gathering/Worship Resources
END:VEVENT
BEGIN:VEVENT
DTSTART;TZID=America/Los_Angeles:20240930T170000
DTEND;TZID=America/Los_Angeles:20240930T180000
DTSTAMP:20260422T233230
CREATED:20240918T220017Z
LAST-MODIFIED:20240924T211039Z
UID:21685-1727715600-1727719200@earthministry.org
SUMMARY:Mining\, Faith\, and the Future of Green Technology
DESCRIPTION:Thursday\, October 24\, 2024 6:00 PM 8:10 PM Oddfellows Hall 510 Main St. Salmon\, ID 83467 United States A film by Ripple Skip Collective As wild salmon populations in Idaho approach extinction\, three women embark on a 1\,000 mile expedition…  Read More The Grand Salmon film screening – Salmon\, ID
URL:https://earthministry.org/event/mining-faith-and-the-future-of-green-technology/
LOCATION:Online
CATEGORIES:Advocacy,Climate,Fossil Fuels,WA IPL
END:VEVENT
BEGIN:VEVENT
DTSTART;TZID=America/Los_Angeles:20240925T180000
DTEND;TZID=America/Los_Angeles:20240925T190000
DTSTAMP:20260422T233230
CREATED:20240918T223402Z
LAST-MODIFIED:20240918T223402Z
UID:21704-1727287200-1727290800@earthministry.org
SUMMARY:Washington State Commissioner of Public Lands Candidate Forum
DESCRIPTION:Thursday\, October 24\, 2024 6:00 PM 8:10 PM Oddfellows Hall 510 Main St. Salmon\, ID 83467 United States A film by Ripple Skip Collective As wild salmon populations in Idaho approach extinction\, three women embark on a 1\,000 mile expedition…  Read More The Grand Salmon film screening – Salmon\, ID
URL:https://earthministry.org/event/washington-state-commissioner-of-public-lands-candidate-forum/
LOCATION:Online
CATEGORIES:Advocacy,Land Use
END:VEVENT
BEGIN:VEVENT
DTSTART;TZID=America/Los_Angeles:20240924T190000
DTEND;TZID=America/Los_Angeles:20240924T200000
DTSTAMP:20260422T233230
CREATED:20240918T230246Z
LAST-MODIFIED:20240918T230246Z
UID:21713-1727204400-1727208000@earthministry.org
SUMMARY:State Forests for the Future Policy Panel (Virtual Webinar)
DESCRIPTION:Thursday\, October 24\, 2024 6:00 PM 8:10 PM Oddfellows Hall 510 Main St. Salmon\, ID 83467 United States A film by Ripple Skip Collective As wild salmon populations in Idaho approach extinction\, three women embark on a 1\,000 mile expedition…  Read More The Grand Salmon film screening – Salmon\, ID
URL:https://earthministry.org/event/state-forests-for-the-future-policy-panel-virtual-webinar/
LOCATION:Online
CATEGORIES:Advocacy,Land Use,Statewide Support
END:VEVENT
BEGIN:VEVENT
DTSTART;TZID=America/Los_Angeles:20240924T183000
DTEND;TZID=America/Los_Angeles:20240924T193000
DTSTAMP:20260422T233230
CREATED:20240918T220959Z
LAST-MODIFIED:20240918T220959Z
UID:21692-1727202600-1727206200@earthministry.org
SUMMARY:Faithful Voter 2024 Information Session
DESCRIPTION:Thursday\, October 24\, 2024 6:00 PM 8:10 PM Oddfellows Hall 510 Main St. Salmon\, ID 83467 United States A film by Ripple Skip Collective As wild salmon populations in Idaho approach extinction\, three women embark on a 1\,000 mile expedition…  Read More The Grand Salmon film screening – Salmon\, ID
URL:https://earthministry.org/event/faithful-voter-2024-information-session/
LOCATION:Online
CATEGORIES:Advocacy,Climate,Climate Justice Events,Featured,Fossil Fuels,Statewide Support,WA IPL,WA Legislative Events,Washington State Legislature
ORGANIZER;CN="Earth Ministry/WA IPL":MAILTO:sarah@earthministry.org
END:VEVENT
BEGIN:VEVENT
DTSTART;TZID=America/Los_Angeles:20240924T080000
DTEND;TZID=America/Los_Angeles:20240924T170000
DTSTAMP:20260422T233230
CREATED:20240924T211942Z
LAST-MODIFIED:20240924T211942Z
UID:21724-1727164800-1727197200@earthministry.org
SUMMARY:Climate Catastrophe Ground Zero Open House Launch
DESCRIPTION:Thursday\, October 24\, 2024 6:00 PM 8:10 PM Oddfellows Hall 510 Main St. Salmon\, ID 83467 United States A film by Ripple Skip Collective As wild salmon populations in Idaho approach extinction\, three women embark on a 1\,000 mile expedition…  Read More The Grand Salmon film screening – Salmon\, ID
URL:https://earthministry.org/event/climate-catastrophe-ground-zero-open-house-launch/
LOCATION:Urban Grace\, 902 Market St\, Tacoma\, Washington\, 98402
CATEGORIES:Advocacy,Climate,Multigenerational Community,Public Lands Events,Puget Sound,Resources,Statewide Support
END:VEVENT
BEGIN:VEVENT
DTSTART;VALUE=DATE:20240922
DTEND;VALUE=DATE:20240925
DTSTAMP:20260422T233230
CREATED:20240918T221833Z
LAST-MODIFIED:20240918T222502Z
UID:21700-1726963200-1727222399@earthministry.org
SUMMARY:Annual Environment and Spirituality Summit
DESCRIPTION:Thursday\, October 24\, 2024 6:00 PM 8:10 PM Oddfellows Hall 510 Main St. Salmon\, ID 83467 United States A film by Ripple Skip Collective As wild salmon populations in Idaho approach extinction\, three women embark on a 1\,000 mile expedition…  Read More The Grand Salmon film screening – Salmon\, ID
URL:https://earthministry.org/event/annual-environment-and-spirituality-summit/
LOCATION:Online
CATEGORIES:Advocacy,Featured,Multifaith Community
ORGANIZER;CN="Faith In Place":MAILTO:info@faithinplace.org
END:VEVENT
BEGIN:VEVENT
DTSTART;TZID=America/Los_Angeles:20240822T180000
DTEND;TZID=America/Los_Angeles:20240822T200000
DTSTAMP:20260422T233230
CREATED:20240611T060934Z
LAST-MODIFIED:20240611T060934Z
UID:20931-1724349600-1724356800@earthministry.org
SUMMARY:Super Pod - Arts Performance
DESCRIPTION:Thursday\, October 24\, 2024 6:00 PM 8:10 PM Oddfellows Hall 510 Main St. Salmon\, ID 83467 United States A film by Ripple Skip Collective As wild salmon populations in Idaho approach extinction\, three women embark on a 1\,000 mile expedition…  Read More The Grand Salmon film screening – Salmon\, ID
URL:https://earthministry.org/event/super-pod-arts-performance/
LOCATION:Seattle Center A/RT\, 305 Harrison St\, Seattle\, Washington\, 98109
CATEGORIES:Advocacy,Indigenous Voices/Tribal Solidarity
ORGANIZER;CN="Endangered Species Coalition":MAILTO:jrosapepe@endangered.org
END:VEVENT
BEGIN:VEVENT
DTSTART;TZID=America/Los_Angeles:20240817T130000
DTEND;TZID=America/Los_Angeles:20240817T153000
DTSTAMP:20260422T233230
CREATED:20240617T175543Z
LAST-MODIFIED:20240617T175610Z
UID:20987-1723899600-1723908600@earthministry.org
SUMMARY:qʷiqʷəlut Water Is Life Series: August
DESCRIPTION:Thursday\, October 24\, 2024 6:00 PM 8:10 PM Oddfellows Hall 510 Main St. Salmon\, ID 83467 United States A film by Ripple Skip Collective As wild salmon populations in Idaho approach extinction\, three women embark on a 1\,000 mile expedition…  Read More The Grand Salmon film screening – Salmon\, ID
URL:https://earthministry.org/event/q%ca%b7iq%ca%b7%c9%99lut-water-is-life-series-august/
LOCATION:350Tacoma\, 311 Puyallup Ave\, Tacoma\, Washington\, 98421
CATEGORIES:Climate,Fracked Gas,Indigenous Voices/Tribal Solidarity,Land Use,Multifaith Community,Multigenerational Community,Public Lands Events,Rivers and Salmon Events
END:VEVENT
BEGIN:VEVENT
DTSTART;TZID=America/Los_Angeles:20240815T190000
DTEND;TZID=America/Los_Angeles:20240815T200000
DTSTAMP:20260422T233230
CREATED:20240611T063629Z
LAST-MODIFIED:20240611T063630Z
UID:20945-1723748400-1723752000@earthministry.org
SUMMARY:Saving Money and Saving the Planet with Solar Panels
DESCRIPTION:Thursday\, October 24\, 2024 6:00 PM 8:10 PM Oddfellows Hall 510 Main St. Salmon\, ID 83467 United States A film by Ripple Skip Collective As wild salmon populations in Idaho approach extinction\, three women embark on a 1\,000 mile expedition…  Read More The Grand Salmon film screening – Salmon\, ID
URL:https://earthministry.org/event/saving-money-and-saving-the-planet-with-solar-panels/
LOCATION:Online
CATEGORIES:Multifaith Community,Multifaith Community Event,Multigenerational Community,Resources
END:VEVENT
BEGIN:VEVENT
DTSTART;TZID=America/Los_Angeles:20240801T180000
DTEND;TZID=America/Los_Angeles:20240801T200000
DTSTAMP:20260422T233230
CREATED:20240611T060424Z
LAST-MODIFIED:20240611T060425Z
UID:20922-1722535200-1722542400@earthministry.org
SUMMARY:Super Pod-Gallery Opening
DESCRIPTION:Thursday\, October 24\, 2024 6:00 PM 8:10 PM Oddfellows Hall 510 Main St. Salmon\, ID 83467 United States A film by Ripple Skip Collective As wild salmon populations in Idaho approach extinction\, three women embark on a 1\,000 mile expedition…  Read More The Grand Salmon film screening – Salmon\, ID
URL:https://earthministry.org/event/super-pod-gallery-opening/
LOCATION:Seattle Center A/RT\, 305 Harrison St\, Seattle\, Washington\, 98109
CATEGORIES:Advocacy,Climate,Indigenous Voices/Tribal Solidarity
ORGANIZER;CN="Endangered Species Coalition":MAILTO:jrosapepe@endangered.org
END:VEVENT
BEGIN:VEVENT
DTSTART;VALUE=DATE:20240730
DTEND;VALUE=DATE:20240823
DTSTAMP:20260422T233230
CREATED:20240611T060705Z
LAST-MODIFIED:20240611T060705Z
UID:20929-1722297600-1724371199@earthministry.org
SUMMARY:Super Pod All Together Art Exhibit
DESCRIPTION:Thursday\, October 24\, 2024 6:00 PM 8:10 PM Oddfellows Hall 510 Main St. Salmon\, ID 83467 United States A film by Ripple Skip Collective As wild salmon populations in Idaho approach extinction\, three women embark on a 1\,000 mile expedition…  Read More The Grand Salmon film screening – Salmon\, ID
URL:https://earthministry.org/event/super-pod-all-together-art-exhibit/
LOCATION:Seattle Center A/RT\, 305 Harrison St\, Seattle\, Washington\, 98109
CATEGORIES:Advocacy,Indigenous Voices/Tribal Solidarity
ORGANIZER;CN="Endangered Species Coalition":MAILTO:jrosapepe@endangered.org
END:VEVENT
BEGIN:VEVENT
DTSTART;TZID=America/Los_Angeles:20240720T090000
DTEND;TZID=America/Los_Angeles:20240720T120000
DTSTAMP:20260422T233230
CREATED:20240709T034306Z
LAST-MODIFIED:20240709T034306Z
UID:21219-1721466000-1721476800@earthministry.org
SUMMARY:Hertz Trail (Part 2) Work Party!\, Bellingham
DESCRIPTION:Thursday\, October 24\, 2024 6:00 PM 8:10 PM Oddfellows Hall 510 Main St. Salmon\, ID 83467 United States A film by Ripple Skip Collective As wild salmon populations in Idaho approach extinction\, three women embark on a 1\,000 mile expedition…  Read More The Grand Salmon film screening – Salmon\, ID
URL:https://earthministry.org/event/hertz-trail-part-2-work-party-bellingham/
CATEGORIES:Multifaith Community,Multigenerational Community,Public Lands Events,Statewide Support
END:VEVENT
BEGIN:VEVENT
DTSTART;TZID=America/Los_Angeles:20240720T083000
DTEND;TZID=America/Los_Angeles:20240720T150000
DTSTAMP:20260422T233230
CREATED:20240709T035818Z
LAST-MODIFIED:20240709T035818Z
UID:21233-1721464200-1721487600@earthministry.org
SUMMARY:Free the Snake Flotilla\,  Hell’s Gate State Park
DESCRIPTION:Thursday\, October 24\, 2024 6:00 PM 8:10 PM Oddfellows Hall 510 Main St. Salmon\, ID 83467 United States A film by Ripple Skip Collective As wild salmon populations in Idaho approach extinction\, three women embark on a 1\,000 mile expedition…  Read More The Grand Salmon film screening – Salmon\, ID
URL:https://earthministry.org/event/free-the-snake-flotilla-hells-gate-state-park/
LOCATION:Hell’s Gate State Park\, 5100 Hells Gate Rd\, Lewiston\, Idaho\, 83501
CATEGORIES:Advocacy,Indigenous Voices/Tribal Solidarity,Land Use,Multifaith Community,Multigenerational Community,Public Lands Events,Rivers and Salmon,Rivers and Salmon Events
END:VEVENT
BEGIN:VEVENT
DTSTART;TZID=America/Los_Angeles:20240719T140000
DTEND;TZID=America/Los_Angeles:20240721T190000
DTSTAMP:20260422T233230
CREATED:20240709T035253Z
LAST-MODIFIED:20240709T035253Z
UID:21229-1721397600-1721588400@earthministry.org
SUMMARY:Rising Moon Festival\, Bellingham
DESCRIPTION:Thursday\, October 24\, 2024 6:00 PM 8:10 PM Oddfellows Hall 510 Main St. Salmon\, ID 83467 United States A film by Ripple Skip Collective As wild salmon populations in Idaho approach extinction\, three women embark on a 1\,000 mile expedition…  Read More The Grand Salmon film screening – Salmon\, ID
URL:https://earthministry.org/event/rising-moon-festival-bellingham/
LOCATION:Rising Moon Meadows\, 4566 Anderson Way\, Bellingham\, Washington\, 98226
CATEGORIES:Multifaith Community,Multigenerational Community,Statewide Support
END:VEVENT
BEGIN:VEVENT
DTSTART;TZID=America/Los_Angeles:20240718T190000
DTEND;TZID=America/Los_Angeles:20240718T200000
DTSTAMP:20260422T233230
CREATED:20240611T063307Z
LAST-MODIFIED:20240611T063307Z
UID:20943-1721329200-1721332800@earthministry.org
SUMMARY:Electrify Your Faith Community or Business
DESCRIPTION:Thursday\, October 24\, 2024 6:00 PM 8:10 PM Oddfellows Hall 510 Main St. Salmon\, ID 83467 United States A film by Ripple Skip Collective As wild salmon populations in Idaho approach extinction\, three women embark on a 1\,000 mile expedition…  Read More The Grand Salmon film screening – Salmon\, ID
URL:https://earthministry.org/event/electrify-your-faith-community-or-business/
LOCATION:Online
CATEGORIES:Climate,Multifaith Community,Multifaith Community Event,Resources
END:VEVENT
BEGIN:VEVENT
DTSTART;TZID=America/Los_Angeles:20240702T190000
DTEND;TZID=America/Los_Angeles:20240702T200000
DTSTAMP:20260422T233230
CREATED:20240524T172542Z
LAST-MODIFIED:20240611T055055Z
UID:20832-1719946800-1719950400@earthministry.org
SUMMARY:An Evening with Lifelong Climate Activist Bill McKibben: In-person and Virtual
DESCRIPTION:Thursday\, October 24\, 2024 6:00 PM 8:10 PM Oddfellows Hall 510 Main St. Salmon\, ID 83467 United States A film by Ripple Skip Collective As wild salmon populations in Idaho approach extinction\, three women embark on a 1\,000 mile expedition…  Read More The Grand Salmon film screening – Salmon\, ID
URL:https://earthministry.org/event/an-evening-with-lifelong-climate-activist-bill-mckibben-in-person-and-virtual/
LOCATION:First Church Seattle\, 180 Denny Way\, Seattle\, WA\, 98109\, United States
CATEGORIES:Advocacy,Multifaith Community,Multigenerational Community
END:VEVENT
BEGIN:VEVENT
DTSTART;TZID=America/Los_Angeles:20240629T100000
DTEND;TZID=America/Los_Angeles:20240629T130000
DTSTAMP:20260422T233230
CREATED:20240617T173937Z
LAST-MODIFIED:20240617T173937Z
UID:20975-1719655200-1719666000@earthministry.org
SUMMARY:qʷiqʷəlut (little marsh) Summer Work Party
DESCRIPTION:Thursday\, October 24\, 2024 6:00 PM 8:10 PM Oddfellows Hall 510 Main St. Salmon\, ID 83467 United States A film by Ripple Skip Collective As wild salmon populations in Idaho approach extinction\, three women embark on a 1\,000 mile expedition…  Read More The Grand Salmon film screening – Salmon\, ID
URL:https://earthministry.org/event/q%ca%b7iq%ca%b7%c9%99lut-little-marsh-summer-work-party/
LOCATION:qʷiqʷəlut (little marsh)\, 1845 Port of Tacoma Rd\, Tacoma\, Washington\, 98421
CATEGORIES:Indigenous Voices/Tribal Solidarity,Multifaith Community,Multigenerational Community,Public Lands Events,Puget Sound,Rivers and Salmon Events
END:VEVENT
BEGIN:VEVENT
DTSTART;TZID=America/Los_Angeles:20240621T073000
DTEND;TZID=America/Los_Angeles:20240621T190000
DTSTAMP:20260422T233230
CREATED:20240611T061930Z
LAST-MODIFIED:20240611T061931Z
UID:20933-1718955000-1718996400@earthministry.org
SUMMARY:Expo '74 Legislative Summit
DESCRIPTION:Thursday\, October 24\, 2024 6:00 PM 8:10 PM Oddfellows Hall 510 Main St. Salmon\, ID 83467 United States A film by Ripple Skip Collective As wild salmon populations in Idaho approach extinction\, three women embark on a 1\,000 mile expedition…  Read More The Grand Salmon film screening – Salmon\, ID
URL:https://earthministry.org/event/expo-74-legislative-summit/
LOCATION:Spokane Convention Center\, 334 West Spokane Falls Boulevard\, Spokane\, Washington\, 99201
CATEGORIES:Advocacy,Climate,Climate Justice Events,Food/Agriculture,Indigenous Voices/Tribal Solidarity,Land Use,Legislature,Multifaith Community,Multigenerational Community,Rivers and Salmon,Statewide Support
END:VEVENT
BEGIN:VEVENT
DTSTART;TZID=America/Los_Angeles:20240613T183000
DTEND;TZID=America/Los_Angeles:20240613T193000
DTSTAMP:20260422T233230
CREATED:20240321T170706Z
LAST-MODIFIED:20240321T170706Z
UID:20437-1718303400-1718307000@earthministry.org
SUMMARY:Solar\, Wind and Geothermal Energy\, and How to Tap Renewable Energy
DESCRIPTION:Thursday\, October 24\, 2024 6:00 PM 8:10 PM Oddfellows Hall 510 Main St. Salmon\, ID 83467 United States A film by Ripple Skip Collective As wild salmon populations in Idaho approach extinction\, three women embark on a 1\,000 mile expedition…  Read More The Grand Salmon film screening – Salmon\, ID
URL:https://earthministry.org/event/solar-wind-and-geothermal-energy-and-how-to-tap-renewable-energy/
LOCATION:Online
CATEGORIES:Advocacy,Climate,Multifaith Community,Resources
END:VEVENT
BEGIN:VEVENT
DTSTART;TZID=America/Los_Angeles:20240612T180000
DTEND;TZID=America/Los_Angeles:20240612T213000
DTSTAMP:20260422T233230
CREATED:20240611T064411Z
LAST-MODIFIED:20240611T064411Z
UID:20947-1718215200-1718227800@earthministry.org
SUMMARY:All Our Relations: A Tribute to the Orca
DESCRIPTION:Thursday\, October 24\, 2024 6:00 PM 8:10 PM Oddfellows Hall 510 Main St. Salmon\, ID 83467 United States A film by Ripple Skip Collective As wild salmon populations in Idaho approach extinction\, three women embark on a 1\,000 mile expedition…  Read More The Grand Salmon film screening – Salmon\, ID
URL:https://earthministry.org/event/all-our-relations-a-tribute-to-the-orca/
LOCATION:Seattle Aquarium\, 1483 Alaskan Way Pier 59\, Seattle\, Washington\, 98101
CATEGORIES:Advocacy,Climate,Indigenous Voices/Tribal Solidarity,Rivers and Salmon
END:VEVENT
BEGIN:VEVENT
DTSTART;VALUE=DATE:20240611
DTEND;VALUE=DATE:20240612
DTSTAMP:20260422T233230
CREATED:20240611T075920Z
LAST-MODIFIED:20240611T091253Z
UID:20969-1718064000-1718150399@earthministry.org
SUMMARY:Flood City Council with Comments: Tacoma City Charter Review
DESCRIPTION:Thursday\, October 24\, 2024 6:00 PM 8:10 PM Oddfellows Hall 510 Main St. Salmon\, ID 83467 United States A film by Ripple Skip Collective As wild salmon populations in Idaho approach extinction\, three women embark on a 1\,000 mile expedition…  Read More The Grand Salmon film screening – Salmon\, ID
URL:https://earthministry.org/event/flood-city-council-with-comments-tacoma-city-charter-review/
LOCATION:Online
CATEGORIES:Advocacy,Climate
END:VEVENT
BEGIN:VEVENT
DTSTART;TZID=America/Los_Angeles:20240610T080000
DTEND;TZID=America/Los_Angeles:20240610T170000
DTSTAMP:20260422T233230
CREATED:20240611T064806Z
LAST-MODIFIED:20240611T064806Z
UID:20952-1718006400-1718038800@earthministry.org
SUMMARY:Orca Action Month Rally Agenda
DESCRIPTION:Thursday\, October 24\, 2024 6:00 PM 8:10 PM Oddfellows Hall 510 Main St. Salmon\, ID 83467 United States A film by Ripple Skip Collective As wild salmon populations in Idaho approach extinction\, three women embark on a 1\,000 mile expedition…  Read More The Grand Salmon film screening – Salmon\, ID
URL:https://earthministry.org/event/orca-action-month-rally-agenda/
LOCATION:West Lake Park\, 401 Pine St.\, Seattle\, Washington\, 98101
CATEGORIES:Advocacy,Climate,Indigenous Voices/Tribal Solidarity,Multifaith Community,Multigenerational Community,Rivers and Salmon,WA Legislative Events
END:VEVENT
BEGIN:VEVENT
DTSTART;VALUE=DATE:20240603
DTEND;VALUE=DATE:20240625
DTSTAMP:20260422T233230
CREATED:20240611T062901Z
LAST-MODIFIED:20240611T062901Z
UID:20938-1717372800-1719273599@earthministry.org
SUMMARY:Choosing Harmony
DESCRIPTION:Thursday\, October 24\, 2024 6:00 PM 8:10 PM Oddfellows Hall 510 Main St. Salmon\, ID 83467 United States A film by Ripple Skip Collective As wild salmon populations in Idaho approach extinction\, three women embark on a 1\,000 mile expedition…  Read More The Grand Salmon film screening – Salmon\, ID
URL:https://earthministry.org/event/choosing-harmony/
LOCATION:Sravasti Abbey\, 900 W. 4th St.\, Newport\, Washington\, 99156
CATEGORIES:Multifaith Community,Multigenerational Community
END:VEVENT
BEGIN:VEVENT
DTSTART;TZID=America/Los_Angeles:20240530T190000
DTEND;TZID=America/Los_Angeles:20240530T200000
DTSTAMP:20260422T233230
CREATED:20240524T170734Z
LAST-MODIFIED:20240524T170810Z
UID:20821-1717095600-1717099200@earthministry.org
SUMMARY:Interfaith Power and Light: Environmental Priorities
DESCRIPTION:Thursday\, October 24\, 2024 6:00 PM 8:10 PM Oddfellows Hall 510 Main St. Salmon\, ID 83467 United States A film by Ripple Skip Collective As wild salmon populations in Idaho approach extinction\, three women embark on a 1\,000 mile expedition…  Read More The Grand Salmon film screening – Salmon\, ID
URL:https://earthministry.org/event/interfaith-power-and-light-environmental-priorities/
LOCATION:St. John’s Cathedral\, Spokane\, 127 E 12th Avenue\, Spokane\, WA\, 99202\, United States
CATEGORIES:Advocacy,Interfaith Power and Light,Multifaith Community,Multigenerational Community,National IPL,WA IPL,WA Legislative Events
END:VEVENT
BEGIN:VEVENT
DTSTART;VALUE=DATE:20240529
DTEND;VALUE=DATE:20240603
DTSTAMP:20260422T233230
CREATED:20240524T164049Z
LAST-MODIFIED:20240524T164049Z
UID:20812-1716940800-1717372799@earthministry.org
SUMMARY:Hope for Creation Conference 2024
DESCRIPTION:Thursday\, October 24\, 2024 6:00 PM 8:10 PM Oddfellows Hall 510 Main St. Salmon\, ID 83467 United States A film by Ripple Skip Collective As wild salmon populations in Idaho approach extinction\, three women embark on a 1\,000 mile expedition…  Read More The Grand Salmon film screening – Salmon\, ID
URL:https://earthministry.org/event/hope-for-creation-conference-2024/
LOCATION:St. John’s Cathedral\, Spokane\, 127 E 12th Avenue\, Spokane\, WA\, 99202\, United States
CATEGORIES:Climate,Multifaith Community,Multigenerational Community,Statewide Support
END:VEVENT
BEGIN:VEVENT
DTSTART;TZID=America/Los_Angeles:20240516T193000
DTEND;TZID=America/Los_Angeles:20240516T213000
DTSTAMP:20260422T233230
CREATED:20240325T174337Z
LAST-MODIFIED:20240325T174337Z
UID:20456-1715887800-1715895000@earthministry.org
SUMMARY:THE AUNTIES – WOMEN OF THE SALISH SEA\, EPISODE 2
DESCRIPTION:Thursday\, October 24\, 2024 6:00 PM 8:10 PM Oddfellows Hall 510 Main St. Salmon\, ID 83467 United States A film by Ripple Skip Collective As wild salmon populations in Idaho approach extinction\, three women embark on a 1\,000 mile expedition…  Read More The Grand Salmon film screening – Salmon\, ID
URL:https://earthministry.org/event/the-aunties-women-of-the-salish-sea-episode-2/
LOCATION:Washington Center Main Stage\, 512 Washington St. SE\, Olympia\, WA\, 98501\, United States
CATEGORIES:Indigenous Voices/Tribal Solidarity,Multifaith Community,Multifaith Community Event,Multigenerational Community
END:VEVENT
BEGIN:VEVENT
DTSTART;TZID=America/Los_Angeles:20240516T190000
DTEND;TZID=America/Los_Angeles:20240516T203000
DTSTAMP:20260422T233230
CREATED:20240320T191901Z
LAST-MODIFIED:20240418T162017Z
UID:20412-1715886000-1715891400@earthministry.org
SUMMARY:The Animals' Lawsuit Against Humanity
DESCRIPTION:Thursday\, October 24\, 2024 6:00 PM 8:10 PM Oddfellows Hall 510 Main St. Salmon\, ID 83467 United States A film by Ripple Skip Collective As wild salmon populations in Idaho approach extinction\, three women embark on a 1\,000 mile expedition…  Read More The Grand Salmon film screening – Salmon\, ID
URL:https://earthministry.org/event/the-animals-lawsuit-against-humanity/
LOCATION:TBD
CATEGORIES:Multifaith Community,Multifaith Community Event
END:VEVENT
END:VCALENDAR