BEGIN:VCALENDAR
VERSION:2.0
PRODID:-//Earth Ministry/WA IPL - ECPv6.15.20//NONSGML v1.0//EN
CALSCALE:GREGORIAN
METHOD:PUBLISH
X-ORIGINAL-URL:https://earthministry.org
X-WR-CALDESC:Events for Earth Ministry/WA IPL
REFRESH-INTERVAL;VALUE=DURATION:PT1H
X-Robots-Tag:noindex
X-PUBLISHED-TTL:PT1H
BEGIN:VTIMEZONE
TZID:America/Los_Angeles
BEGIN:DAYLIGHT
TZOFFSETFROM:-0800
TZOFFSETTO:-0700
TZNAME:PDT
DTSTART:20230312T100000
END:DAYLIGHT
BEGIN:STANDARD
TZOFFSETFROM:-0700
TZOFFSETTO:-0800
TZNAME:PST
DTSTART:20231105T090000
END:STANDARD
BEGIN:DAYLIGHT
TZOFFSETFROM:-0800
TZOFFSETTO:-0700
TZNAME:PDT
DTSTART:20240310T100000
END:DAYLIGHT
BEGIN:STANDARD
TZOFFSETFROM:-0700
TZOFFSETTO:-0800
TZNAME:PST
DTSTART:20241103T090000
END:STANDARD
BEGIN:DAYLIGHT
TZOFFSETFROM:-0800
TZOFFSETTO:-0700
TZNAME:PDT
DTSTART:20250309T100000
END:DAYLIGHT
BEGIN:STANDARD
TZOFFSETFROM:-0700
TZOFFSETTO:-0800
TZNAME:PST
DTSTART:20251102T090000
END:STANDARD
END:VTIMEZONE
BEGIN:VEVENT
DTSTART;TZID=America/Los_Angeles:20240421T120000
DTEND;TZID=America/Los_Angeles:20240421T150000
DTSTAMP:20260423T011450
CREATED:20240402T234741Z
LAST-MODIFIED:20240402T234741Z
UID:20575-1713700800-1713711600@earthministry.org
SUMMARY:The Wonderful World of Composting and Recycling
DESCRIPTION:“The Wonderful World of Composting and Recycling” is an intergenerational event that celebrates Earth Day on April 21 right after late worship. We’ll have pizza for all! Please sign up to share your pizza preferences and let us know how…  Read More The Wonderful World of Composting and Recycling
URL:https://earthministry.org/event/the-wonderful-world-of-composting-and-recycling/
LOCATION:St. Mark’s Lutheran Church\, Spokane\, 316 E 24th Ave\, Spokane\, Washington\, 99203
CATEGORIES:Multifaith Community,Multigenerational Community,Recycling,Resources
END:VEVENT
BEGIN:VEVENT
DTSTART;TZID=America/Los_Angeles:20240402T173000
DTEND;TZID=America/Los_Angeles:20240402T183000
DTSTAMP:20260423T011450
CREATED:20240325T182420Z
LAST-MODIFIED:20240402T225326Z
UID:20473-1712079000-1712082600@earthministry.org
SUMMARY:Fused Together: April
DESCRIPTION:“The Wonderful World of Composting and Recycling” is an intergenerational event that celebrates Earth Day on April 21 right after late worship. We’ll have pizza for all! Please sign up to share your pizza preferences and let us know how…  Read More The Wonderful World of Composting and Recycling
URL:https://earthministry.org/event/fused-together-april/
LOCATION:Tacoma Library: South Tacoma Branch\, 3411 S 56th St\, Tacoma\, WA\, 98409\, United States
CATEGORIES:Multifaith Community Event,Multigenerational Community,Public Lands Events,Puget Sound,Recycling,Resources
END:VEVENT
END:VCALENDAR