BEGIN:VCALENDAR
VERSION:2.0
PRODID:-//Earth Ministry/WA IPL - ECPv6.15.20//NONSGML v1.0//EN
CALSCALE:GREGORIAN
METHOD:PUBLISH
X-ORIGINAL-URL:https://earthministry.org
X-WR-CALDESC:Events for Earth Ministry/WA IPL
REFRESH-INTERVAL;VALUE=DURATION:PT1H
X-Robots-Tag:noindex
X-PUBLISHED-TTL:PT1H
BEGIN:VTIMEZONE
TZID:America/Los_Angeles
BEGIN:DAYLIGHT
TZOFFSETFROM:-0800
TZOFFSETTO:-0700
TZNAME:PDT
DTSTART:20230312T100000
END:DAYLIGHT
BEGIN:STANDARD
TZOFFSETFROM:-0700
TZOFFSETTO:-0800
TZNAME:PST
DTSTART:20231105T090000
END:STANDARD
BEGIN:DAYLIGHT
TZOFFSETFROM:-0800
TZOFFSETTO:-0700
TZNAME:PDT
DTSTART:20240310T100000
END:DAYLIGHT
BEGIN:STANDARD
TZOFFSETFROM:-0700
TZOFFSETTO:-0800
TZNAME:PST
DTSTART:20241103T090000
END:STANDARD
BEGIN:DAYLIGHT
TZOFFSETFROM:-0800
TZOFFSETTO:-0700
TZNAME:PDT
DTSTART:20250309T100000
END:DAYLIGHT
BEGIN:STANDARD
TZOFFSETFROM:-0700
TZOFFSETTO:-0800
TZNAME:PST
DTSTART:20251102T090000
END:STANDARD
END:VTIMEZONE
BEGIN:VEVENT
DTSTART;TZID=America/Los_Angeles:20241114T190000
DTEND;TZID=America/Los_Angeles:20241114T210000
DTSTAMP:20260423T001519
CREATED:20241022T001608Z
LAST-MODIFIED:20241023T170603Z
UID:21898-1731610800-1731618000@earthministry.org
SUMMARY:An Evening of Poetry and Prose I Sing the Salmon Home: Poems from Washington State
DESCRIPTION:An Evening of Poetry and Prose I Sing the Salmon Home: Poems from Washington State Land Trust Building 10014 SW Bank Rd Vashon\, WA 98070 November 14\, 2024 7 - 9 pm Register For Free Here Join us for poetry…  Read More An Evening of Poetry and Prose I Sing the Salmon Home: Poems from Washington State
URL:https://earthministry.org/event/an-evening-of-poetry-and-prose-i-sing-the-salmon-home-poems-from-washington-state/
CATEGORIES:Indigenous Voices/Tribal Solidarity,Rivers and Salmon,Rivers and Salmon Events
END:VEVENT
BEGIN:VEVENT
DTSTART;TZID=America/Los_Angeles:20241113T080000
DTEND;TZID=America/Los_Angeles:20241114T170000
DTSTAMP:20260423T001519
CREATED:20241022T000207Z
LAST-MODIFIED:20241023T170537Z
UID:21892-1731484800-1731603600@earthministry.org
SUMMARY:Columbia River Transboundary Water Governance and Ethics Symposium 2024
DESCRIPTION:An Evening of Poetry and Prose I Sing the Salmon Home: Poems from Washington State Land Trust Building 10014 SW Bank Rd Vashon\, WA 98070 November 14\, 2024 7 - 9 pm Register For Free Here Join us for poetry…  Read More An Evening of Poetry and Prose I Sing the Salmon Home: Poems from Washington State
URL:https://earthministry.org/event/columbia-river-transboundary-water-governance-and-ethics-symposium-2024/
CATEGORIES:Advocacy,Columbia River Treaty,Rivers and Salmon,Rivers and Salmon Events
END:VEVENT
BEGIN:VEVENT
DTSTART;TZID=America/Los_Angeles:20241024T180000
DTEND;TZID=America/Los_Angeles:20241024T201000
DTSTAMP:20260423T001519
CREATED:20241021T224837Z
LAST-MODIFIED:20241023T212110Z
UID:21880-1729792800-1729800600@earthministry.org
SUMMARY:The Grand Salmon film screening - Salmon\, ID
DESCRIPTION:An Evening of Poetry and Prose I Sing the Salmon Home: Poems from Washington State Land Trust Building 10014 SW Bank Rd Vashon\, WA 98070 November 14\, 2024 7 - 9 pm Register For Free Here Join us for poetry…  Read More An Evening of Poetry and Prose I Sing the Salmon Home: Poems from Washington State
URL:https://earthministry.org/event/the-grand-salmon-film-screening-salmon-id/
CATEGORIES:Advocacy,Rivers and Salmon,Rivers and Salmon Events
END:VEVENT
BEGIN:VEVENT
DTSTART;TZID=America/Los_Angeles:20240720T083000
DTEND;TZID=America/Los_Angeles:20240720T150000
DTSTAMP:20260423T001519
CREATED:20240709T035818Z
LAST-MODIFIED:20240709T035818Z
UID:21233-1721464200-1721487600@earthministry.org
SUMMARY:Free the Snake Flotilla\,  Hell’s Gate State Park
DESCRIPTION:An Evening of Poetry and Prose I Sing the Salmon Home: Poems from Washington State Land Trust Building 10014 SW Bank Rd Vashon\, WA 98070 November 14\, 2024 7 - 9 pm Register For Free Here Join us for poetry…  Read More An Evening of Poetry and Prose I Sing the Salmon Home: Poems from Washington State
URL:https://earthministry.org/event/free-the-snake-flotilla-hells-gate-state-park/
LOCATION:Hell’s Gate State Park\, 5100 Hells Gate Rd\, Lewiston\, Idaho\, 83501
CATEGORIES:Advocacy,Indigenous Voices/Tribal Solidarity,Land Use,Multifaith Community,Multigenerational Community,Public Lands Events,Rivers and Salmon,Rivers and Salmon Events
END:VEVENT
BEGIN:VEVENT
DTSTART;TZID=America/Los_Angeles:20240621T073000
DTEND;TZID=America/Los_Angeles:20240621T190000
DTSTAMP:20260423T001519
CREATED:20240611T061930Z
LAST-MODIFIED:20240611T061931Z
UID:20933-1718955000-1718996400@earthministry.org
SUMMARY:Expo '74 Legislative Summit
DESCRIPTION:An Evening of Poetry and Prose I Sing the Salmon Home: Poems from Washington State Land Trust Building 10014 SW Bank Rd Vashon\, WA 98070 November 14\, 2024 7 - 9 pm Register For Free Here Join us for poetry…  Read More An Evening of Poetry and Prose I Sing the Salmon Home: Poems from Washington State
URL:https://earthministry.org/event/expo-74-legislative-summit/
LOCATION:Spokane Convention Center\, 334 West Spokane Falls Boulevard\, Spokane\, Washington\, 99201
CATEGORIES:Advocacy,Climate,Climate Justice Events,Food/Agriculture,Indigenous Voices/Tribal Solidarity,Land Use,Legislature,Multifaith Community,Multigenerational Community,Rivers and Salmon,Statewide Support
END:VEVENT
BEGIN:VEVENT
DTSTART;TZID=America/Los_Angeles:20240612T180000
DTEND;TZID=America/Los_Angeles:20240612T213000
DTSTAMP:20260423T001519
CREATED:20240611T064411Z
LAST-MODIFIED:20240611T064411Z
UID:20947-1718215200-1718227800@earthministry.org
SUMMARY:All Our Relations: A Tribute to the Orca
DESCRIPTION:An Evening of Poetry and Prose I Sing the Salmon Home: Poems from Washington State Land Trust Building 10014 SW Bank Rd Vashon\, WA 98070 November 14\, 2024 7 - 9 pm Register For Free Here Join us for poetry…  Read More An Evening of Poetry and Prose I Sing the Salmon Home: Poems from Washington State
URL:https://earthministry.org/event/all-our-relations-a-tribute-to-the-orca/
LOCATION:Seattle Aquarium\, 1483 Alaskan Way Pier 59\, Seattle\, Washington\, 98101
CATEGORIES:Advocacy,Climate,Indigenous Voices/Tribal Solidarity,Rivers and Salmon
END:VEVENT
BEGIN:VEVENT
DTSTART;TZID=America/Los_Angeles:20240610T080000
DTEND;TZID=America/Los_Angeles:20240610T170000
DTSTAMP:20260423T001519
CREATED:20240611T064806Z
LAST-MODIFIED:20240611T064806Z
UID:20952-1718006400-1718038800@earthministry.org
SUMMARY:Orca Action Month Rally Agenda
DESCRIPTION:An Evening of Poetry and Prose I Sing the Salmon Home: Poems from Washington State Land Trust Building 10014 SW Bank Rd Vashon\, WA 98070 November 14\, 2024 7 - 9 pm Register For Free Here Join us for poetry…  Read More An Evening of Poetry and Prose I Sing the Salmon Home: Poems from Washington State
URL:https://earthministry.org/event/orca-action-month-rally-agenda/
LOCATION:West Lake Park\, 401 Pine St.\, Seattle\, Washington\, 98101
CATEGORIES:Advocacy,Climate,Indigenous Voices/Tribal Solidarity,Multifaith Community,Multigenerational Community,Rivers and Salmon,WA Legislative Events
END:VEVENT
BEGIN:VEVENT
DTSTART;TZID=America/Los_Angeles:20240419T090000
DTEND;TZID=America/Los_Angeles:20240419T170000
DTSTAMP:20260423T001519
CREATED:20240325T172842Z
LAST-MODIFIED:20240411T211022Z
UID:20447-1713517200-1713546000@earthministry.org
SUMMARY:Snake River Healing Canoe Journey: KHIMSTONIK
DESCRIPTION:An Evening of Poetry and Prose I Sing the Salmon Home: Poems from Washington State Land Trust Building 10014 SW Bank Rd Vashon\, WA 98070 November 14\, 2024 7 - 9 pm Register For Free Here Join us for poetry…  Read More An Evening of Poetry and Prose I Sing the Salmon Home: Poems from Washington State
URL:https://earthministry.org/event/snake-river-healing-canoe-journey-khimstonik/
LOCATION:Sacajawea Historical State Park\, 2503 Sacajawea Road\, Pasco\, WA\, 99301\, United States
CATEGORIES:Advocacy,Indigenous Voices/Tribal Solidarity,Multifaith Community,Multifaith Community Event,Rivers and Salmon
ORGANIZER;CN="KHIMSTONIK":MAILTO:INFO@NPGIVINGVOICE.ORG
END:VEVENT
BEGIN:VEVENT
DTSTART;TZID=America/Los_Angeles:20240409T180000
DTEND;TZID=America/Los_Angeles:20240409T190000
DTSTAMP:20260423T001519
CREATED:20240325T181415Z
LAST-MODIFIED:20240325T181415Z
UID:20470-1712685600-1712689200@earthministry.org
SUMMARY:Clean Energy + A Restored Lower Snake River = A More Vibrant Northwest
DESCRIPTION:An Evening of Poetry and Prose I Sing the Salmon Home: Poems from Washington State Land Trust Building 10014 SW Bank Rd Vashon\, WA 98070 November 14\, 2024 7 - 9 pm Register For Free Here Join us for poetry…  Read More An Evening of Poetry and Prose I Sing the Salmon Home: Poems from Washington State
URL:https://earthministry.org/event/snake-river-dinner-hour-clean-energy/
LOCATION:Online
CATEGORIES:Advocacy,Climate,Indigenous Voices/Tribal Solidarity,Lower Snake River,Public Lands Events,Rivers and Salmon,Rivers and Salmon Events
END:VEVENT
BEGIN:VEVENT
DTSTART;TZID=America/Los_Angeles:20240322T090000
DTEND;TZID=America/Los_Angeles:20240322T123000
DTSTAMP:20260423T001519
CREATED:20240321T172640Z
LAST-MODIFIED:20240321T172640Z
UID:20439-1711098000-1711110600@earthministry.org
SUMMARY:World Water Day Blessings by Puyallup Tribal Member Robert Satiacum
DESCRIPTION:An Evening of Poetry and Prose I Sing the Salmon Home: Poems from Washington State Land Trust Building 10014 SW Bank Rd Vashon\, WA 98070 November 14\, 2024 7 - 9 pm Register For Free Here Join us for poetry…  Read More An Evening of Poetry and Prose I Sing the Salmon Home: Poems from Washington State
URL:https://earthministry.org/event/world-water-day-blessings-by-puyallup-tribal-member-robert-satiacum/
LOCATION:The Steh-Chass (Deschutes) River\, Olympia\, Washington
CATEGORIES:Indigenous Voices/Tribal Solidarity,Multifaith Community,Multifaith Community Event,Multigenerational Community,Public Lands Events,Resources,Rivers and Salmon
END:VEVENT
END:VCALENDAR