BEGIN:VCALENDAR
VERSION:2.0
PRODID:-//Earth Ministry/WA IPL - ECPv6.15.20//NONSGML v1.0//EN
CALSCALE:GREGORIAN
METHOD:PUBLISH
X-ORIGINAL-URL:https://earthministry.org
X-WR-CALDESC:Events for Earth Ministry/WA IPL
REFRESH-INTERVAL;VALUE=DURATION:PT1H
X-Robots-Tag:noindex
X-PUBLISHED-TTL:PT1H
BEGIN:VTIMEZONE
TZID:America/Los_Angeles
BEGIN:DAYLIGHT
TZOFFSETFROM:-0800
TZOFFSETTO:-0700
TZNAME:PDT
DTSTART:20200308T100000
END:DAYLIGHT
BEGIN:STANDARD
TZOFFSETFROM:-0700
TZOFFSETTO:-0800
TZNAME:PST
DTSTART:20201101T090000
END:STANDARD
BEGIN:DAYLIGHT
TZOFFSETFROM:-0800
TZOFFSETTO:-0700
TZNAME:PDT
DTSTART:20210314T100000
END:DAYLIGHT
BEGIN:STANDARD
TZOFFSETFROM:-0700
TZOFFSETTO:-0800
TZNAME:PST
DTSTART:20211107T090000
END:STANDARD
BEGIN:DAYLIGHT
TZOFFSETFROM:-0800
TZOFFSETTO:-0700
TZNAME:PDT
DTSTART:20220313T100000
END:DAYLIGHT
BEGIN:STANDARD
TZOFFSETFROM:-0700
TZOFFSETTO:-0800
TZNAME:PST
DTSTART:20221106T090000
END:STANDARD
BEGIN:DAYLIGHT
TZOFFSETFROM:-0800
TZOFFSETTO:-0700
TZNAME:PDT
DTSTART:20230312T100000
END:DAYLIGHT
BEGIN:STANDARD
TZOFFSETFROM:-0700
TZOFFSETTO:-0800
TZNAME:PST
DTSTART:20231105T090000
END:STANDARD
BEGIN:DAYLIGHT
TZOFFSETFROM:-0800
TZOFFSETTO:-0700
TZNAME:PDT
DTSTART:20240310T100000
END:DAYLIGHT
BEGIN:STANDARD
TZOFFSETFROM:-0700
TZOFFSETTO:-0800
TZNAME:PST
DTSTART:20241103T090000
END:STANDARD
BEGIN:DAYLIGHT
TZOFFSETFROM:-0800
TZOFFSETTO:-0700
TZNAME:PDT
DTSTART:20250309T100000
END:DAYLIGHT
BEGIN:STANDARD
TZOFFSETFROM:-0700
TZOFFSETTO:-0800
TZNAME:PST
DTSTART:20251102T090000
END:STANDARD
END:VTIMEZONE
BEGIN:VEVENT
DTSTART;TZID=America/Los_Angeles:20240610T080000
DTEND;TZID=America/Los_Angeles:20240610T170000
DTSTAMP:20260425T074538
CREATED:20240611T064806Z
LAST-MODIFIED:20240611T064806Z
UID:20952-1718006400-1718038800@earthministry.org
SUMMARY:Orca Action Month Rally Agenda
DESCRIPTION:Hope for Creation Conference Evening Discussion May 30\, 2024\, 7:00 pm at St. John's Cathedral Interfaith Power and Light: Environmental Priorities Join in a discussion led by AC Churchill\, executive director Earth Ministry/Washington Interfaith Power and Light\, Marqus Cole from…  Read More Interfaith Power and Light: Environmental Priorities
URL:https://earthministry.org/event/orca-action-month-rally-agenda/
LOCATION:West Lake Park\, 401 Pine St.\, Seattle\, Washington\, 98101
CATEGORIES:Advocacy,Climate,Indigenous Voices/Tribal Solidarity,Multifaith Community,Multigenerational Community,Rivers and Salmon,WA Legislative Events
END:VEVENT
BEGIN:VEVENT
DTSTART;TZID=America/Los_Angeles:20240530T190000
DTEND;TZID=America/Los_Angeles:20240530T200000
DTSTAMP:20260425T074538
CREATED:20240524T170734Z
LAST-MODIFIED:20240524T170810Z
UID:20821-1717095600-1717099200@earthministry.org
SUMMARY:Interfaith Power and Light: Environmental Priorities
DESCRIPTION:Hope for Creation Conference Evening Discussion May 30\, 2024\, 7:00 pm at St. John's Cathedral Interfaith Power and Light: Environmental Priorities Join in a discussion led by AC Churchill\, executive director Earth Ministry/Washington Interfaith Power and Light\, Marqus Cole from…  Read More Interfaith Power and Light: Environmental Priorities
URL:https://earthministry.org/event/interfaith-power-and-light-environmental-priorities/
LOCATION:St. John’s Cathedral\, Spokane\, 127 E 12th Avenue\, Spokane\, WA\, 99202\, United States
CATEGORIES:Advocacy,Interfaith Power and Light,Multifaith Community,Multigenerational Community,National IPL,WA IPL,WA Legislative Events
END:VEVENT
BEGIN:VEVENT
DTSTART;VALUE=DATE:20240529
DTEND;VALUE=DATE:20240603
DTSTAMP:20260425T074538
CREATED:20240524T164049Z
LAST-MODIFIED:20240524T164049Z
UID:20812-1716940800-1717372799@earthministry.org
SUMMARY:Hope for Creation Conference 2024
DESCRIPTION:Hope for Creation Conference Evening Discussion May 30\, 2024\, 7:00 pm at St. John's Cathedral Interfaith Power and Light: Environmental Priorities Join in a discussion led by AC Churchill\, executive director Earth Ministry/Washington Interfaith Power and Light\, Marqus Cole from…  Read More Interfaith Power and Light: Environmental Priorities
URL:https://earthministry.org/event/hope-for-creation-conference-2024/
LOCATION:St. John’s Cathedral\, Spokane\, 127 E 12th Avenue\, Spokane\, WA\, 99202\, United States
CATEGORIES:Climate,Multifaith Community,Multigenerational Community,Statewide Support
END:VEVENT
BEGIN:VEVENT
DTSTART;TZID=America/Los_Angeles:20240516T193000
DTEND;TZID=America/Los_Angeles:20240516T213000
DTSTAMP:20260425T074538
CREATED:20240325T174337Z
LAST-MODIFIED:20240325T174337Z
UID:20456-1715887800-1715895000@earthministry.org
SUMMARY:THE AUNTIES – WOMEN OF THE SALISH SEA\, EPISODE 2
DESCRIPTION:Hope for Creation Conference Evening Discussion May 30\, 2024\, 7:00 pm at St. John's Cathedral Interfaith Power and Light: Environmental Priorities Join in a discussion led by AC Churchill\, executive director Earth Ministry/Washington Interfaith Power and Light\, Marqus Cole from…  Read More Interfaith Power and Light: Environmental Priorities
URL:https://earthministry.org/event/the-aunties-women-of-the-salish-sea-episode-2/
LOCATION:Washington Center Main Stage\, 512 Washington St. SE\, Olympia\, WA\, 98501\, United States
CATEGORIES:Indigenous Voices/Tribal Solidarity,Multifaith Community,Multifaith Community Event,Multigenerational Community
END:VEVENT
BEGIN:VEVENT
DTSTART;TZID=America/Los_Angeles:20240509T183000
DTEND;TZID=America/Los_Angeles:20240509T193000
DTSTAMP:20260425T074538
CREATED:20240321T170528Z
LAST-MODIFIED:20240321T170544Z
UID:20434-1715279400-1715283000@earthministry.org
SUMMARY:Farms for a Sustainable Future and How to Support Farmers
DESCRIPTION:Hope for Creation Conference Evening Discussion May 30\, 2024\, 7:00 pm at St. John's Cathedral Interfaith Power and Light: Environmental Priorities Join in a discussion led by AC Churchill\, executive director Earth Ministry/Washington Interfaith Power and Light\, Marqus Cole from…  Read More Interfaith Power and Light: Environmental Priorities
URL:https://earthministry.org/event/farms-for-a-sustainable-future-and-how-to-support-farmers/
LOCATION:Online
CATEGORIES:Advocacy,Climate,Multifaith Community,Resources
END:VEVENT
BEGIN:VEVENT
DTSTART;TZID=America/Los_Angeles:20240504T093000
DTEND;TZID=America/Los_Angeles:20240504T110000
DTSTAMP:20260425T074538
CREATED:20240415T201100Z
LAST-MODIFIED:20240426T183843Z
UID:20670-1714815000-1714820400@earthministry.org
SUMMARY:Cast Your Vote Washington\, UCUCC Event Launch
DESCRIPTION:Hope for Creation Conference Evening Discussion May 30\, 2024\, 7:00 pm at St. John's Cathedral Interfaith Power and Light: Environmental Priorities Join in a discussion led by AC Churchill\, executive director Earth Ministry/Washington Interfaith Power and Light\, Marqus Cole from…  Read More Interfaith Power and Light: Environmental Priorities
URL:https://earthministry.org/event/cast-your-vote-washington-ucucc-event-launch/
LOCATION:University Congregational United Church of Christ\, Seattle\, 4515 16th Ave NE\, Seattle\, Washington\, 98105
CATEGORIES:Advocacy,Climate,Multifaith Community,Multigenerational Community,Resources,Statewide Support
END:VEVENT
BEGIN:VEVENT
DTSTART;TZID=America/Los_Angeles:20240428T094500
DTEND;TZID=America/Los_Angeles:20240428T104500
DTSTAMP:20260425T074538
CREATED:20240402T235639Z
LAST-MODIFIED:20240402T235639Z
UID:20582-1714297500-1714301100@earthministry.org
SUMMARY:“Equitable Creation Care” with Justyce Brant from SpoCanopy
DESCRIPTION:Hope for Creation Conference Evening Discussion May 30\, 2024\, 7:00 pm at St. John's Cathedral Interfaith Power and Light: Environmental Priorities Join in a discussion led by AC Churchill\, executive director Earth Ministry/Washington Interfaith Power and Light\, Marqus Cole from…  Read More Interfaith Power and Light: Environmental Priorities
URL:https://earthministry.org/event/equitable-creation-care-with-justyce-brant-from-spocanopy/
LOCATION:St. Mark’s Lutheran Church\, Spokane\, 316 E 24th Ave\, Spokane\, Washington\, 99203
CATEGORIES:Advocacy,Climate,Land Use,Multifaith Community,Multigenerational Community,Public Lands Events
END:VEVENT
BEGIN:VEVENT
DTSTART;TZID=America/Los_Angeles:20240427T100000
DTEND;TZID=America/Los_Angeles:20240427T170000
DTSTAMP:20260425T074538
CREATED:20240411T210810Z
LAST-MODIFIED:20240411T210849Z
UID:20662-1714212000-1714237200@earthministry.org
SUMMARY:Spring Native Art Market
DESCRIPTION:Hope for Creation Conference Evening Discussion May 30\, 2024\, 7:00 pm at St. John's Cathedral Interfaith Power and Light: Environmental Priorities Join in a discussion led by AC Churchill\, executive director Earth Ministry/Washington Interfaith Power and Light\, Marqus Cole from…  Read More Interfaith Power and Light: Environmental Priorities
URL:https://earthministry.org/event/spring-native-art-market/
LOCATION:Duwamish Longhouse and Cultural Center\, 4705 West Marginal Way Southwest\, Seattle\, WA\, 98106\, United States
CATEGORIES:Families/Children Support,Indigenous Voices/Tribal Solidarity,Multifaith Community,Multigenerational Community
END:VEVENT
BEGIN:VEVENT
DTSTART;TZID=America/Los_Angeles:20240426T190000
DTEND;TZID=America/Los_Angeles:20240426T203000
DTSTAMP:20260425T074538
CREATED:20240402T235122Z
LAST-MODIFIED:20240402T235122Z
UID:20579-1714158000-1714163400@earthministry.org
SUMMARY:"Common Ground" Film Showing
DESCRIPTION:Hope for Creation Conference Evening Discussion May 30\, 2024\, 7:00 pm at St. John's Cathedral Interfaith Power and Light: Environmental Priorities Join in a discussion led by AC Churchill\, executive director Earth Ministry/Washington Interfaith Power and Light\, Marqus Cole from…  Read More Interfaith Power and Light: Environmental Priorities
URL:https://earthministry.org/event/common-ground-film-showing/
LOCATION:Journey Christian Church\, Seattle\, 1933 NE 125th St\, Seattle\, Washington\, 98125
CATEGORIES:Advocacy,Climate,Interfaith Power and Light,Multifaith Community,Multigenerational Community,Public Lands Events,Resources
END:VEVENT
BEGIN:VEVENT
DTSTART;TZID=America/Los_Angeles:20240424T090000
DTEND;TZID=America/Los_Angeles:20240424T103000
DTSTAMP:20260425T074538
CREATED:20240411T201717Z
LAST-MODIFIED:20240411T201717Z
UID:20647-1713949200-1713954600@earthministry.org
SUMMARY:IPL's 2024 Featured Film "Common Ground" interview with Gabe Brown
DESCRIPTION:Hope for Creation Conference Evening Discussion May 30\, 2024\, 7:00 pm at St. John's Cathedral Interfaith Power and Light: Environmental Priorities Join in a discussion led by AC Churchill\, executive director Earth Ministry/Washington Interfaith Power and Light\, Marqus Cole from…  Read More Interfaith Power and Light: Environmental Priorities
URL:https://earthministry.org/event/ipls-2024-featured-film-common-ground-interview-with-gabe-brown/
LOCATION:Online
CATEGORIES:Advocacy,Food/Agriculture,Interfaith Power and Light,Multifaith Community,Multifaith Community Event,Multigenerational Community,National IPL
END:VEVENT
BEGIN:VEVENT
DTSTART;TZID=America/Los_Angeles:20240422T180000
DTEND;TZID=America/Los_Angeles:20240422T200000
DTSTAMP:20260425T074538
CREATED:20240326T011723Z
LAST-MODIFIED:20240326T011723Z
UID:20478-1713808800-1713816000@earthministry.org
SUMMARY:Good News and Just Responses to Climate Change
DESCRIPTION:Hope for Creation Conference Evening Discussion May 30\, 2024\, 7:00 pm at St. John's Cathedral Interfaith Power and Light: Environmental Priorities Join in a discussion led by AC Churchill\, executive director Earth Ministry/Washington Interfaith Power and Light\, Marqus Cole from…  Read More Interfaith Power and Light: Environmental Priorities
URL:https://earthministry.org/event/good-news-and-just-responses-to-climate-change/
LOCATION:Online
CATEGORIES:Climate,Multifaith Community,Multifaith Community Event,Multigenerational Community,Resources
END:VEVENT
BEGIN:VEVENT
DTSTART;VALUE=DATE:20240422
DTEND;VALUE=DATE:20240423
DTSTAMP:20260425T074538
CREATED:20240411T203223Z
LAST-MODIFIED:20240411T203223Z
UID:20655-1713744000-1713830399@earthministry.org
SUMMARY:Healing Our Throwaway Culture: A Focus on Plastics
DESCRIPTION:Hope for Creation Conference Evening Discussion May 30\, 2024\, 7:00 pm at St. John's Cathedral Interfaith Power and Light: Environmental Priorities Join in a discussion led by AC Churchill\, executive director Earth Ministry/Washington Interfaith Power and Light\, Marqus Cole from…  Read More Interfaith Power and Light: Environmental Priorities
URL:https://earthministry.org/event/healing-our-throwaway-culture-a-focus-on-plastics/
LOCATION:Online
CATEGORIES:Advocacy,Climate,Fossil Fuels,Toxics
END:VEVENT
BEGIN:VEVENT
DTSTART;TZID=America/Los_Angeles:20240421T130000
DTEND;TZID=America/Los_Angeles:20240421T143000
DTSTAMP:20260425T074538
CREATED:20240411T202832Z
LAST-MODIFIED:20240411T202832Z
UID:20650-1713704400-1713709800@earthministry.org
SUMMARY:Earth Day Celebrations: Interfaith Works and Green Faith Alliance of Olympia
DESCRIPTION:Hope for Creation Conference Evening Discussion May 30\, 2024\, 7:00 pm at St. John's Cathedral Interfaith Power and Light: Environmental Priorities Join in a discussion led by AC Churchill\, executive director Earth Ministry/Washington Interfaith Power and Light\, Marqus Cole from…  Read More Interfaith Power and Light: Environmental Priorities
URL:https://earthministry.org/event/earth-day-celebrations-interfaith-works-and-green-faith-alliance-of-olympia/
LOCATION:Decatur Woods Park\, 1015 Decatur St SW\, Olympia\, WA\, 98502\, United States
CATEGORIES:Advocacy,Climate,Families/Children Support,Multifaith Community,Multifaith Community Event,Multigenerational Community
END:VEVENT
BEGIN:VEVENT
DTSTART;TZID=America/Los_Angeles:20240420T130000
DTEND;TZID=America/Los_Angeles:20240420T150000
DTSTAMP:20260425T074538
CREATED:20240325T175844Z
LAST-MODIFIED:20240325T180009Z
UID:20464-1713618000-1713625200@earthministry.org
SUMMARY:From Dubai to Baku: A Wisdom-Keeper Delegation at UNCOP
DESCRIPTION:Hope for Creation Conference Evening Discussion May 30\, 2024\, 7:00 pm at St. John's Cathedral Interfaith Power and Light: Environmental Priorities Join in a discussion led by AC Churchill\, executive director Earth Ministry/Washington Interfaith Power and Light\, Marqus Cole from…  Read More Interfaith Power and Light: Environmental Priorities
URL:https://earthministry.org/event/from-dubai-to-baku-a-wisdom-keeper-delegation-at-uncop/
LOCATION:Duwamish Longhouse and Cultural Center\, 4705 West Marginal Way Southwest\, Seattle\, WA\, 98106\, United States
CATEGORIES:Advocacy,Climate,Indigenous Voices/Tribal Solidarity,Multifaith Community,Multifaith Community Event,Multigenerational Community
END:VEVENT
BEGIN:VEVENT
DTSTART;TZID=America/Los_Angeles:20240419T090000
DTEND;TZID=America/Los_Angeles:20240419T170000
DTSTAMP:20260425T074538
CREATED:20240325T172842Z
LAST-MODIFIED:20240411T211022Z
UID:20447-1713517200-1713546000@earthministry.org
SUMMARY:Snake River Healing Canoe Journey: KHIMSTONIK
DESCRIPTION:Hope for Creation Conference Evening Discussion May 30\, 2024\, 7:00 pm at St. John's Cathedral Interfaith Power and Light: Environmental Priorities Join in a discussion led by AC Churchill\, executive director Earth Ministry/Washington Interfaith Power and Light\, Marqus Cole from…  Read More Interfaith Power and Light: Environmental Priorities
URL:https://earthministry.org/event/snake-river-healing-canoe-journey-khimstonik/
LOCATION:Sacajawea Historical State Park\, 2503 Sacajawea Road\, Pasco\, WA\, 99301\, United States
CATEGORIES:Advocacy,Indigenous Voices/Tribal Solidarity,Multifaith Community,Multifaith Community Event,Rivers and Salmon
ORGANIZER;CN="KHIMSTONIK":MAILTO:INFO@NPGIVINGVOICE.ORG
END:VEVENT
BEGIN:VEVENT
DTSTART;VALUE=DATE:20240419
DTEND;VALUE=DATE:20240429
DTSTAMP:20260425T074538
CREATED:20240320T192411Z
LAST-MODIFIED:20240402T225505Z
UID:20417-1713484800-1714348799@earthministry.org
SUMMARY:Faith Climate Action Week 2024
DESCRIPTION:Hope for Creation Conference Evening Discussion May 30\, 2024\, 7:00 pm at St. John's Cathedral Interfaith Power and Light: Environmental Priorities Join in a discussion led by AC Churchill\, executive director Earth Ministry/Washington Interfaith Power and Light\, Marqus Cole from…  Read More Interfaith Power and Light: Environmental Priorities
URL:https://earthministry.org/event/faith-climate-action-week-2024/
LOCATION:WA
CATEGORIES:Advocacy,Climate,Featured,Food/Agriculture,Interfaith Power and Light,Multifaith Community,Multifaith Community Event,National IPL,Resources,WA IPL
END:VEVENT
BEGIN:VEVENT
DTSTART;TZID=America/Los_Angeles:20240411T063000
DTEND;TZID=America/Los_Angeles:20240411T193000
DTSTAMP:20260425T074538
CREATED:20240321T170328Z
LAST-MODIFIED:20240321T170328Z
UID:20431-1712817000-1712863800@earthministry.org
SUMMARY:Plant Trees for Cleaner\, Healthier\, Cooler Air
DESCRIPTION:Hope for Creation Conference Evening Discussion May 30\, 2024\, 7:00 pm at St. John's Cathedral Interfaith Power and Light: Environmental Priorities Join in a discussion led by AC Churchill\, executive director Earth Ministry/Washington Interfaith Power and Light\, Marqus Cole from…  Read More Interfaith Power and Light: Environmental Priorities
URL:https://earthministry.org/event/plant-trees-for-cleaner-healthier-cooler-air/
LOCATION:Online
CATEGORIES:Advocacy,Climate,Multifaith Community,Multifaith Community Event
END:VEVENT
BEGIN:VEVENT
DTSTART;TZID=America/Los_Angeles:20240409T180000
DTEND;TZID=America/Los_Angeles:20240409T190000
DTSTAMP:20260425T074538
CREATED:20240325T181415Z
LAST-MODIFIED:20240325T181415Z
UID:20470-1712685600-1712689200@earthministry.org
SUMMARY:Clean Energy + A Restored Lower Snake River = A More Vibrant Northwest
DESCRIPTION:Hope for Creation Conference Evening Discussion May 30\, 2024\, 7:00 pm at St. John's Cathedral Interfaith Power and Light: Environmental Priorities Join in a discussion led by AC Churchill\, executive director Earth Ministry/Washington Interfaith Power and Light\, Marqus Cole from…  Read More Interfaith Power and Light: Environmental Priorities
URL:https://earthministry.org/event/snake-river-dinner-hour-clean-energy/
LOCATION:Online
CATEGORIES:Advocacy,Climate,Indigenous Voices/Tribal Solidarity,Lower Snake River,Public Lands Events,Rivers and Salmon,Rivers and Salmon Events
END:VEVENT
BEGIN:VEVENT
DTSTART;TZID=America/Los_Angeles:20240325T120000
DTEND;TZID=America/Los_Angeles:20240325T130000
DTSTAMP:20260425T074538
CREATED:20240325T173515Z
LAST-MODIFIED:20240325T173515Z
UID:20452-1711368000-1711371600@earthministry.org
SUMMARY:Investigative Journalist Breaks Down Hanford: A Conversation with Joshua Frank
DESCRIPTION:Hope for Creation Conference Evening Discussion May 30\, 2024\, 7:00 pm at St. John's Cathedral Interfaith Power and Light: Environmental Priorities Join in a discussion led by AC Churchill\, executive director Earth Ministry/Washington Interfaith Power and Light\, Marqus Cole from…  Read More Interfaith Power and Light: Environmental Priorities
URL:https://earthministry.org/event/investigative-journalist-breaks-down-hanford-a-conversation-with-joshua-frank/
LOCATION:Online
CATEGORIES:Advocacy,Climate,Climate Justice Events
END:VEVENT
BEGIN:VEVENT
DTSTART;TZID=America/Los_Angeles:20240324T130000
DTEND;TZID=America/Los_Angeles:20240324T160000
DTSTAMP:20260425T074538
CREATED:20240321T165901Z
LAST-MODIFIED:20240321T165901Z
UID:20423-1711285200-1711296000@earthministry.org
SUMMARY:Community Celebration at Former “Power Plant” Timber Sale
DESCRIPTION:Hope for Creation Conference Evening Discussion May 30\, 2024\, 7:00 pm at St. John's Cathedral Interfaith Power and Light: Environmental Priorities Join in a discussion led by AC Churchill\, executive director Earth Ministry/Washington Interfaith Power and Light\, Marqus Cole from…  Read More Interfaith Power and Light: Environmental Priorities
URL:https://earthministry.org/event/community-celebration-at-former-power-plant-timber-sale/
LOCATION:Olympia Advenure Route\, 27 Colville Rd\, Port Angeles\, WA\, 98363\, United States
CATEGORIES:Climate,Multifaith Community,Public Lands Events,Resources
END:VEVENT
BEGIN:VEVENT
DTSTART;TZID=America/Los_Angeles:20240322T090000
DTEND;TZID=America/Los_Angeles:20240322T123000
DTSTAMP:20260425T074538
CREATED:20240321T172640Z
LAST-MODIFIED:20240321T172640Z
UID:20439-1711098000-1711110600@earthministry.org
SUMMARY:World Water Day Blessings by Puyallup Tribal Member Robert Satiacum
DESCRIPTION:Hope for Creation Conference Evening Discussion May 30\, 2024\, 7:00 pm at St. John's Cathedral Interfaith Power and Light: Environmental Priorities Join in a discussion led by AC Churchill\, executive director Earth Ministry/Washington Interfaith Power and Light\, Marqus Cole from…  Read More Interfaith Power and Light: Environmental Priorities
URL:https://earthministry.org/event/world-water-day-blessings-by-puyallup-tribal-member-robert-satiacum/
LOCATION:The Steh-Chass (Deschutes) River\, Olympia\, Washington
CATEGORIES:Indigenous Voices/Tribal Solidarity,Multifaith Community,Multifaith Community Event,Multigenerational Community,Public Lands Events,Resources,Rivers and Salmon
END:VEVENT
BEGIN:VEVENT
DTSTART;TZID=America/Los_Angeles:20210207T130000
DTEND;TZID=America/Los_Angeles:20210207T143000
DTSTAMP:20260425T074538
CREATED:20210114T220755Z
LAST-MODIFIED:20210115T193807Z
UID:14314-1612702800-1612708200@earthministry.org
SUMMARY:2040 Film Screening & Discussion
DESCRIPTION:Hope for Creation Conference Evening Discussion May 30\, 2024\, 7:00 pm at St. John's Cathedral Interfaith Power and Light: Environmental Priorities Join in a discussion led by AC Churchill\, executive director Earth Ministry/Washington Interfaith Power and Light\, Marqus Cole from…  Read More Interfaith Power and Light: Environmental Priorities
URL:https://earthministry.org/event/2040-film-screening-discussion/
LOCATION:Online
CATEGORIES:Climate Justice Events
END:VEVENT
END:VCALENDAR