BEGIN:VCALENDAR
VERSION:2.0
PRODID:-//Earth Ministry/WA IPL - ECPv6.15.20//NONSGML v1.0//EN
CALSCALE:GREGORIAN
METHOD:PUBLISH
X-ORIGINAL-URL:https://earthministry.org
X-WR-CALDESC:Events for Earth Ministry/WA IPL
REFRESH-INTERVAL;VALUE=DURATION:PT1H
X-Robots-Tag:noindex
X-PUBLISHED-TTL:PT1H
BEGIN:VTIMEZONE
TZID:America/Los_Angeles
BEGIN:DAYLIGHT
TZOFFSETFROM:-0800
TZOFFSETTO:-0700
TZNAME:PDT
DTSTART:20230312T100000
END:DAYLIGHT
BEGIN:STANDARD
TZOFFSETFROM:-0700
TZOFFSETTO:-0800
TZNAME:PST
DTSTART:20231105T090000
END:STANDARD
BEGIN:DAYLIGHT
TZOFFSETFROM:-0800
TZOFFSETTO:-0700
TZNAME:PDT
DTSTART:20240310T100000
END:DAYLIGHT
BEGIN:STANDARD
TZOFFSETFROM:-0700
TZOFFSETTO:-0800
TZNAME:PST
DTSTART:20241103T090000
END:STANDARD
BEGIN:DAYLIGHT
TZOFFSETFROM:-0800
TZOFFSETTO:-0700
TZNAME:PDT
DTSTART:20250309T100000
END:DAYLIGHT
BEGIN:STANDARD
TZOFFSETFROM:-0700
TZOFFSETTO:-0800
TZNAME:PST
DTSTART:20251102T090000
END:STANDARD
END:VTIMEZONE
BEGIN:VEVENT
DTSTART;TZID=America/Los_Angeles:20240516T193000
DTEND;TZID=America/Los_Angeles:20240516T213000
DTSTAMP:20260423T005848
CREATED:20240325T174337Z
LAST-MODIFIED:20240325T174337Z
UID:20456-1715887800-1715895000@earthministry.org
SUMMARY:THE AUNTIES – WOMEN OF THE SALISH SEA\, EPISODE 2
DESCRIPTION:Spring Native Art Market The Duwamish Longhouse and Cultural Center will be hosting a spring Native art market on Saturday April 27th and Sunday April 28th\, from 10am to 5pm.    
URL:https://earthministry.org/event/the-aunties-women-of-the-salish-sea-episode-2/
LOCATION:Washington Center Main Stage\, 512 Washington St. SE\, Olympia\, WA\, 98501\, United States
CATEGORIES:Indigenous Voices/Tribal Solidarity,Multifaith Community,Multifaith Community Event,Multigenerational Community
END:VEVENT
BEGIN:VEVENT
DTSTART;TZID=America/Los_Angeles:20240427T100000
DTEND;TZID=America/Los_Angeles:20240427T170000
DTSTAMP:20260423T005848
CREATED:20240411T210810Z
LAST-MODIFIED:20240411T210849Z
UID:20662-1714212000-1714237200@earthministry.org
SUMMARY:Spring Native Art Market
DESCRIPTION:Spring Native Art Market The Duwamish Longhouse and Cultural Center will be hosting a spring Native art market on Saturday April 27th and Sunday April 28th\, from 10am to 5pm.    
URL:https://earthministry.org/event/spring-native-art-market/
LOCATION:Duwamish Longhouse and Cultural Center\, 4705 West Marginal Way Southwest\, Seattle\, WA\, 98106\, United States
CATEGORIES:Families/Children Support,Indigenous Voices/Tribal Solidarity,Multifaith Community,Multigenerational Community
END:VEVENT
BEGIN:VEVENT
DTSTART;TZID=America/Los_Angeles:20240420T130000
DTEND;TZID=America/Los_Angeles:20240420T150000
DTSTAMP:20260423T005848
CREATED:20240325T175844Z
LAST-MODIFIED:20240325T180009Z
UID:20464-1713618000-1713625200@earthministry.org
SUMMARY:From Dubai to Baku: A Wisdom-Keeper Delegation at UNCOP
DESCRIPTION:Spring Native Art Market The Duwamish Longhouse and Cultural Center will be hosting a spring Native art market on Saturday April 27th and Sunday April 28th\, from 10am to 5pm.    
URL:https://earthministry.org/event/from-dubai-to-baku-a-wisdom-keeper-delegation-at-uncop/
LOCATION:Duwamish Longhouse and Cultural Center\, 4705 West Marginal Way Southwest\, Seattle\, WA\, 98106\, United States
CATEGORIES:Advocacy,Climate,Indigenous Voices/Tribal Solidarity,Multifaith Community,Multifaith Community Event,Multigenerational Community
END:VEVENT
BEGIN:VEVENT
DTSTART;TZID=America/Los_Angeles:20240419T090000
DTEND;TZID=America/Los_Angeles:20240419T170000
DTSTAMP:20260423T005848
CREATED:20240325T172842Z
LAST-MODIFIED:20240411T211022Z
UID:20447-1713517200-1713546000@earthministry.org
SUMMARY:Snake River Healing Canoe Journey: KHIMSTONIK
DESCRIPTION:Spring Native Art Market The Duwamish Longhouse and Cultural Center will be hosting a spring Native art market on Saturday April 27th and Sunday April 28th\, from 10am to 5pm.    
URL:https://earthministry.org/event/snake-river-healing-canoe-journey-khimstonik/
LOCATION:Sacajawea Historical State Park\, 2503 Sacajawea Road\, Pasco\, WA\, 99301\, United States
CATEGORIES:Advocacy,Indigenous Voices/Tribal Solidarity,Multifaith Community,Multifaith Community Event,Rivers and Salmon
ORGANIZER;CN="KHIMSTONIK":MAILTO:INFO@NPGIVINGVOICE.ORG
END:VEVENT
BEGIN:VEVENT
DTSTART;TZID=America/Los_Angeles:20240409T180000
DTEND;TZID=America/Los_Angeles:20240409T190000
DTSTAMP:20260423T005848
CREATED:20240325T181415Z
LAST-MODIFIED:20240325T181415Z
UID:20470-1712685600-1712689200@earthministry.org
SUMMARY:Clean Energy + A Restored Lower Snake River = A More Vibrant Northwest
DESCRIPTION:Spring Native Art Market The Duwamish Longhouse and Cultural Center will be hosting a spring Native art market on Saturday April 27th and Sunday April 28th\, from 10am to 5pm.    
URL:https://earthministry.org/event/snake-river-dinner-hour-clean-energy/
LOCATION:Online
CATEGORIES:Advocacy,Climate,Indigenous Voices/Tribal Solidarity,Lower Snake River,Public Lands Events,Rivers and Salmon,Rivers and Salmon Events
END:VEVENT
BEGIN:VEVENT
DTSTART;TZID=America/Los_Angeles:20240322T090000
DTEND;TZID=America/Los_Angeles:20240322T123000
DTSTAMP:20260423T005848
CREATED:20240321T172640Z
LAST-MODIFIED:20240321T172640Z
UID:20439-1711098000-1711110600@earthministry.org
SUMMARY:World Water Day Blessings by Puyallup Tribal Member Robert Satiacum
DESCRIPTION:Spring Native Art Market The Duwamish Longhouse and Cultural Center will be hosting a spring Native art market on Saturday April 27th and Sunday April 28th\, from 10am to 5pm.    
URL:https://earthministry.org/event/world-water-day-blessings-by-puyallup-tribal-member-robert-satiacum/
LOCATION:The Steh-Chass (Deschutes) River\, Olympia\, Washington
CATEGORIES:Indigenous Voices/Tribal Solidarity,Multifaith Community,Multifaith Community Event,Multigenerational Community,Public Lands Events,Resources,Rivers and Salmon
END:VEVENT
END:VCALENDAR